BEGIN:VCALENDAR
VERSION:2.0
PRODID:-//Anja Röhl - ECPv6.15.15//NONSGML v1.0//EN
CALSCALE:GREGORIAN
METHOD:PUBLISH
X-WR-CALNAME:Anja Röhl
X-ORIGINAL-URL:https://anjaroehl.de
X-WR-CALDESC:Veranstaltungen für Anja Röhl
REFRESH-INTERVAL;VALUE=DURATION:PT1H
X-Robots-Tag:noindex
X-PUBLISHED-TTL:PT1H
BEGIN:VTIMEZONE
TZID:UTC
BEGIN:STANDARD
TZOFFSETFROM:+0000
TZOFFSETTO:+0000
TZNAME:UTC
DTSTART:20240101T000000
END:STANDARD
END:VTIMEZONE
BEGIN:VEVENT
DTSTART;TZID=UTC:20250602T180000
DTEND;TZID=UTC:20250602T200000
DTSTAMP:20260421T125742
CREATED:20250510T051204Z
LAST-MODIFIED:20250510T051500Z
UID:7076-1748887200-1748894400@anjaroehl.de
SUMMARY:Vortrag: Transgenerationale Weitergabe von NS-Erziehung
DESCRIPTION:Zoom-Vortrag RL-Stiftung Brandenburg in Potsdam zum Thema: \nTransgenerationale Weitergabe von NS-Erziehung:  \nWenn wir uns die Generationen vor uns anschauen\, die unsere heutige Gesellschaft erzogen\, also biografisch stark beeinflusst hat\, dann sehen wir: Sehr viel ist bisher die Rede von den Kriegskindern gewesen\, die ab 1937 geboren wurden\, aber wenig hat man bisher über die älteren\, die „Hitlerkinder“ öffentlich nachgedacht\, die um 27 herum geboren wurden. Erstere haben Gewalt\, Trümmer\, Bomben und Nachkriegszeit erlebt\, sie sind im Krieg oder kurz davor oder danach geboren\, und das Erlebnis\, hilflos Opfer übermächtiger Ereignisse geworden zu sein\, überwiegt bei ihnen. Diejenigen\, die wir psychohistorisch als „Kriegs- und Führerkinder“ bezeichnen\, sind oft schon ab Geburt\, aber ab 1933\, als sie zur Schule kamen\, der brutal gewendeten\, die Menschen abwertenden Naziideologie in der Schule ausgesetzt gewesen und danach noch 12 Jahre lang durch die  NS-Pädagogik\, die Hitlerjugend und NS-Gesellschaft erzogen worden.  Was sie weitergaben\, sollte unbedingt beachtet werden\, da sie ( z.B. 1929 geboren) von 1949 bis 1989 in beiden deutschen Staaten ihre Berufstätigkeit ableisteten\, also die Gesellschaft klar bestimmten. 
URL:https://anjaroehl.de/event/vortrag-transgenerationale-weitergabe-von-ns-erziehung/
LOCATION:Potsdam\, Per Zoom
END:VEVENT
END:VCALENDAR