BEGIN:VCALENDAR
VERSION:2.0
PRODID:-//Anja Röhl - ECPv6.15.15//NONSGML v1.0//EN
CALSCALE:GREGORIAN
METHOD:PUBLISH
X-WR-CALNAME:Anja Röhl
X-ORIGINAL-URL:https://anjaroehl.de
X-WR-CALDESC:Veranstaltungen für Anja Röhl
REFRESH-INTERVAL;VALUE=DURATION:PT1H
X-Robots-Tag:noindex
X-PUBLISHED-TTL:PT1H
BEGIN:VTIMEZONE
TZID:UTC
BEGIN:STANDARD
TZOFFSETFROM:+0000
TZOFFSETTO:+0000
TZNAME:UTC
DTSTART:20240101T000000
END:STANDARD
END:VTIMEZONE
BEGIN:VEVENT
DTSTART;TZID=UTC:20250613T190000
DTEND;TZID=UTC:20250613T210000
DTSTAMP:20260421T132532
CREATED:20250510T053720Z
LAST-MODIFIED:20250605T120847Z
UID:7084-1749841200-1749848400@anjaroehl.de
SUMMARY:Auswirkungen von NS-Erziehung und Erfahrung? Kindererholungsheime als Orte der Gewalt
DESCRIPTION:Vortrag und Lesung aus dem Buch: Das Elend der Verschickungskinder – Kindererholungsorte als Orte der Gewalt\, von Anja Röhl\, sie spricht über Grundlagen des Systems der Kinderverschickungen in Westdeutschland\, wo 12 Millionen Kinder als Klein- und Vorschulkinder\, allein\, in Sonderzügen\, meist gesund\, nur zur Kräftigung in weit entfernte Kindererholungsheime verbracht wurden\, sie liest aus Zeitzeugnissen\, untersucht mögliche NS-Zusammenhänge\, beschreibt und analysiert das System der Kinderverschickungen in der Bundesrepublik Deutschland ab den 50 er Jahren\, mit anschließender Diskussion. Veranstalterin sind die : an.schläge – das feministische Magazin \nORT: \nWUK ( Werkstätten und Kulturhaus) Bereich:  gesellschaftspolitische Initiativen\, Währinger Straße 59\, 1090 Wien \nZEIT: \n18.30 Uhr
URL:https://anjaroehl.de/event/vortrag-und-lesung-in-wien-aus-dem-buch-das-elend-der-verschickungskinder-kindererholungsorte-als-orte-der-gewalt/
END:VEVENT
END:VCALENDAR