BEGIN:VCALENDAR
VERSION:2.0
PRODID:-//Anja Röhl - ECPv6.15.15//NONSGML v1.0//EN
CALSCALE:GREGORIAN
METHOD:PUBLISH
X-WR-CALNAME:Anja Röhl
X-ORIGINAL-URL:https://anjaroehl.de
X-WR-CALDESC:Veranstaltungen für Anja Röhl
REFRESH-INTERVAL;VALUE=DURATION:PT1H
X-Robots-Tag:noindex
X-PUBLISHED-TTL:PT1H
BEGIN:VTIMEZONE
TZID:UTC
BEGIN:STANDARD
TZOFFSETFROM:+0000
TZOFFSETTO:+0000
TZNAME:UTC
DTSTART:20250101T000000
END:STANDARD
END:VTIMEZONE
BEGIN:VEVENT
DTSTART;VALUE=DATE:20260320
DTEND;VALUE=DATE:20260321
DTSTAMP:20260420T222531
CREATED:20260319T210107Z
LAST-MODIFIED:20260319T210431Z
UID:7410-1773964800-1774051199@anjaroehl.de
SUMMARY:Vortrag Transgenerationale Weitergabe von NS-Ideologie und NS-Erziehung – Anja Röhl in Paris
DESCRIPTION:20. März – 9:00 – 18:30\n\n\nVortrag von Anja Röhl zum Thema: 12 Millionen „Verschickungskinder“ – Ein Phänomen von Transgenerationaler Weitergabe von Nazi-Ideologie und Nazi-Erziehung? PARIS auf einer Tagung der Association francaise de psychiatrie: „Colloque 20.03.2026 : Transmission transgénérationnelle \n\nparASSOCIATION FRANCAISE DE PSYCHIATRIE\n\nLe 20 mars 2026\, de 09h à 18h30 \nTransmission transgénérationnelle : déclinaisons génétique\, familiale et historique Salle de Conférence Notre Dame – 92bis Boulevard du Montparnasse\, Paris 75014
URL:https://anjaroehl.de/event/vortrag-transgenerationale-weitergabe-von-ns-ideologie-und-ns-erziehung-anja-roehl-in-paris/
ATTACH;FMTTYPE=image/jpeg:https://anjaroehl.de/wp-content/uploads/2026/03/IMG_4550-scaled.jpeg
END:VEVENT
END:VCALENDAR